Package: multiOmicsViz Version: 1.28.0 Command: /Library/Frameworks/R.framework/Resources/bin/R CMD INSTALL multiOmicsViz StartedAt: 2024-10-16 16:00:15 -0400 (Wed, 16 Oct 2024) EndedAt: 2024-10-16 16:00:40 -0400 (Wed, 16 Oct 2024) EllapsedTime: 25.0 seconds RetCode: 0 Status: OK