Package: multiOmicsViz Version: 1.28.0 Command: rm -rf multiOmicsViz.buildbin-libdir && mkdir multiOmicsViz.buildbin-libdir && /Users/biocbuild/BBS/utils/build-universal.sh multiOmicsViz_1.28.0.tar.gz /Library/Frameworks/R.framework/Resources/bin/R multiOmicsViz.buildbin-libdir StartedAt: 2024-10-18 19:40:13 -0400 (Fri, 18 Oct 2024) EndedAt: 2024-10-18 19:40:43 -0400 (Fri, 18 Oct 2024) EllapsedTime: 29.5 seconds RetCode: 0 Status: OK PackageFile: multiOmicsViz_1.28.0.tgz PackageFileSize: 1.601 MiB