Package: multiMiR Version: 1.26.0 Command: chmod a+r multiMiR -R && E:\biocbuild\bbs-3.19-bioc\R\bin\R.exe CMD build --keep-empty-dirs --no-resave-data multiMiR StartedAt: 2024-10-16 20:36:31 -0400 (Wed, 16 Oct 2024) EndedAt: 2024-10-16 20:37:46 -0400 (Wed, 16 Oct 2024) EllapsedTime: 74.9 seconds RetCode: 0 Status: OK PackageFile: multiMiR_1.26.0.tar.gz PackageFileSize: 333.4 KiB