Package: multiMiR Version: 1.26.0 Command: rm -rf multiMiR.buildbin-libdir && mkdir multiMiR.buildbin-libdir && /Users/biocbuild/BBS/utils/build-universal.sh multiMiR_1.26.0.tar.gz /Library/Frameworks/R.framework/Resources/bin/R multiMiR.buildbin-libdir StartedAt: 2024-10-17 16:41:59 -0400 (Thu, 17 Oct 2024) EndedAt: 2024-10-17 16:42:47 -0400 (Thu, 17 Oct 2024) EllapsedTime: 47.9 seconds RetCode: 0 Status: OK PackageFile: multiMiR_1.26.0.tgz PackageFileSize: 629 KiB