Package: multiMiR Version: 1.26.0 Command: rm -rf multiMiR.buildbin-libdir && mkdir multiMiR.buildbin-libdir && /Users/biocbuild/BBS/utils/build-universal.sh multiMiR_1.26.0.tar.gz /Library/Frameworks/R.framework/Resources/bin/R multiMiR.buildbin-libdir StartedAt: 2024-10-18 19:39:48 -0400 (Fri, 18 Oct 2024) EndedAt: 2024-10-18 19:40:13 -0400 (Fri, 18 Oct 2024) EllapsedTime: 24.7 seconds RetCode: 0 Status: OK PackageFile: multiMiR_1.26.0.tgz PackageFileSize: 628.6 KiB