Package: multiHiCcompare Version: 1.22.0 Command: rm -rf multiHiCcompare.buildbin-libdir && mkdir multiHiCcompare.buildbin-libdir && F:\biocbuild\bbs-3.19-bioc\R\bin\R.exe CMD INSTALL --build --library=multiHiCcompare.buildbin-libdir multiHiCcompare_1.22.0.tar.gz StartedAt: 2024-06-27 08:34:15 -0400 (Thu, 27 Jun 2024) EndedAt: 2024-06-27 08:35:06 -0400 (Thu, 27 Jun 2024) EllapsedTime: 51.0 seconds RetCode: 0 Status: OK PackageFile: multiHiCcompare_1.22.0.zip PackageFileSize: 5.096 MiB