Package: multiHiCcompare Version: 1.22.0 Command: /Library/Frameworks/R.framework/Resources/bin/R CMD build --keep-empty-dirs --no-resave-data multiHiCcompare StartedAt: 2024-06-10 01:23:33 -0400 (Mon, 10 Jun 2024) EndedAt: 2024-06-10 01:25:10 -0400 (Mon, 10 Jun 2024) EllapsedTime: 96.8 seconds RetCode: 0 Status: OK PackageFile: multiHiCcompare_1.22.0.tar.gz PackageFileSize: 4.723 MiB