Package: multiHiCcompare Version: 1.22.0 Command: /Library/Frameworks/R.framework/Resources/bin/R CMD INSTALL multiHiCcompare StartedAt: 2024-10-16 16:22:55 -0400 (Wed, 16 Oct 2024) EndedAt: 2024-10-16 16:23:29 -0400 (Wed, 16 Oct 2024) EllapsedTime: 34.6 seconds RetCode: 0 Status: OK