Package: multiHiCcompare Version: 1.22.0 Command: /Library/Frameworks/R.framework/Resources/bin/R CMD check --install=check:multiHiCcompare.install-out.txt --library=/Library/Frameworks/R.framework/Resources/library --no-vignettes --timings multiHiCcompare_1.22.0.tar.gz StartedAt: 2024-10-18 05:28:40 -0400 (Fri, 18 Oct 2024) EndedAt: 2024-10-18 05:33:15 -0400 (Fri, 18 Oct 2024) EllapsedTime: 275.5 seconds RetCode: 0 Status: OK CheckDir: multiHiCcompare.Rcheck Warnings: 0