Package: multiClust Version: 1.34.0 Command: /Library/Frameworks/R.framework/Resources/bin/R CMD INSTALL multiClust StartedAt: 2024-10-16 16:21:09 -0400 (Wed, 16 Oct 2024) EndedAt: 2024-10-16 16:21:27 -0400 (Wed, 16 Oct 2024) EllapsedTime: 18.1 seconds RetCode: 0 Status: OK