Package: multiClust Version: 1.34.0 Command: rm -rf multiClust.buildbin-libdir && mkdir multiClust.buildbin-libdir && /Users/biocbuild/BBS/utils/build-universal.sh multiClust_1.34.0.tar.gz /Library/Frameworks/R.framework/Resources/bin/R multiClust.buildbin-libdir StartedAt: 2024-10-17 16:41:50 -0400 (Thu, 17 Oct 2024) EndedAt: 2024-10-17 16:42:12 -0400 (Thu, 17 Oct 2024) EllapsedTime: 22.5 seconds RetCode: 0 Status: OK PackageFile: multiClust_1.34.0.tgz PackageFileSize: 3.098 MiB