Package: multiClust Version: 1.34.0 Command: /home/biocbuild/R/R-beta-2024-04-15_r86425/bin/R CMD INSTALL multiClust StartedAt: 2024-05-08 20:50:04 -0000 (Wed, 08 May 2024) EndedAt: 2024-05-08 20:50:13 -0000 (Wed, 08 May 2024) EllapsedTime: 9.0 seconds RetCode: 0 Status: OK