Package: multiClust Version: 1.34.0 Command: /Library/Frameworks/R.framework/Resources/bin/R CMD INSTALL multiClust StartedAt: 2024-10-16 17:59:11 -0400 (Wed, 16 Oct 2024) EndedAt: 2024-10-16 17:59:20 -0400 (Wed, 16 Oct 2024) EllapsedTime: 9.3 seconds RetCode: 0 Status: OK