Package: multiClust Version: 1.34.0 Command: /Library/Frameworks/R.framework/Resources/bin/R CMD build --keep-empty-dirs --no-resave-data multiClust StartedAt: 2024-10-17 05:18:53 -0400 (Thu, 17 Oct 2024) EndedAt: 2024-10-17 05:19:23 -0400 (Thu, 17 Oct 2024) EllapsedTime: 29.5 seconds RetCode: 0 Status: OK PackageFile: multiClust_1.34.0.tar.gz PackageFileSize: 3.048 MiB