Package: multiClust Version: 1.34.0 Command: rm -rf multiClust.buildbin-libdir && mkdir multiClust.buildbin-libdir && /Users/biocbuild/BBS/utils/build-universal.sh multiClust_1.34.0.tar.gz /Library/Frameworks/R.framework/Resources/bin/R multiClust.buildbin-libdir StartedAt: 2024-10-18 19:39:32 -0400 (Fri, 18 Oct 2024) EndedAt: 2024-10-18 19:39:44 -0400 (Fri, 18 Oct 2024) EllapsedTime: 12.1 seconds RetCode: 0 Status: OK PackageFile: multiClust_1.34.0.tgz PackageFileSize: 3.1 MiB