Package: msqrob2 Version: 1.12.0 Command: /home/biocbuild/bbs-3.19-bioc/R/bin/R CMD build --keep-empty-dirs --no-resave-data msqrob2 StartedAt: 2024-10-16 19:41:03 -0400 (Wed, 16 Oct 2024) EndedAt: 2024-10-16 19:42:46 -0400 (Wed, 16 Oct 2024) EllapsedTime: 103.2 seconds RetCode: 0 Status: OK PackageFile: msqrob2_1.12.0.tar.gz PackageFileSize: 2.039 MiB