Package: msqrob2 Version: 1.12.0 Command: /Library/Frameworks/R.framework/Resources/bin/R CMD INSTALL msqrob2 StartedAt: 2024-10-16 16:03:36 -0400 (Wed, 16 Oct 2024) EndedAt: 2024-10-16 16:04:47 -0400 (Wed, 16 Oct 2024) EllapsedTime: 71.3 seconds RetCode: 0 Status: OK