Package: msqrob2 Version: 1.12.0 Command: /Library/Frameworks/R.framework/Resources/bin/R CMD build --keep-empty-dirs --no-resave-data msqrob2 StartedAt: 2024-10-16 21:21:13 -0400 (Wed, 16 Oct 2024) EndedAt: 2024-10-16 21:27:18 -0400 (Wed, 16 Oct 2024) EllapsedTime: 364.8 seconds RetCode: 0 Status: OK PackageFile: msqrob2_1.12.0.tar.gz PackageFileSize: 2.338 MiB