Package: msqrob2 Version: 1.12.0 Command: /Library/Frameworks/R.framework/Resources/bin/R CMD build --keep-empty-dirs --no-resave-data msqrob2 StartedAt: 2024-10-17 05:13:24 -0400 (Thu, 17 Oct 2024) EndedAt: 2024-10-17 05:15:51 -0400 (Thu, 17 Oct 2024) EllapsedTime: 147.4 seconds RetCode: 0 Status: OK PackageFile: msqrob2_1.12.0.tar.gz PackageFileSize: 2.341 MiB