Package: msmsTests Version: 1.42.0 Command: E:\biocbuild\bbs-3.19-bioc\R\bin\R.exe CMD INSTALL msmsTests StartedAt: 2024-10-16 16:54:19 -0400 (Wed, 16 Oct 2024) EndedAt: 2024-10-16 16:54:58 -0400 (Wed, 16 Oct 2024) EllapsedTime: 38.8 seconds RetCode: 0 Status: OK