Package: msmsTests Version: 1.42.0 Command: rm -rf msmsTests.buildbin-libdir && mkdir msmsTests.buildbin-libdir && E:\biocbuild\bbs-3.19-bioc\R\bin\R.exe CMD INSTALL --build --library=msmsTests.buildbin-libdir msmsTests_1.42.0.tar.gz StartedAt: 2024-10-17 08:12:14 -0400 (Thu, 17 Oct 2024) EndedAt: 2024-10-17 08:12:54 -0400 (Thu, 17 Oct 2024) EllapsedTime: 39.3 seconds RetCode: 0 Status: OK PackageFile: msmsTests_1.42.0.zip PackageFileSize: 346.2 KiB