Package: msmsTests Version: 1.42.0 Command: /Library/Frameworks/R.framework/Resources/bin/R CMD build --keep-empty-dirs --no-resave-data msmsTests StartedAt: 2024-06-09 17:25:25 -0400 (Sun, 09 Jun 2024) EndedAt: 2024-06-09 17:27:08 -0400 (Sun, 09 Jun 2024) EllapsedTime: 102.7 seconds RetCode: 0 Status: OK PackageFile: msmsTests_1.42.0.tar.gz PackageFileSize: 546.9 KiB