Package: msmsTests Version: 1.42.0 Command: /home/biocbuild/R/R-beta-2024-04-15_r86425/bin/R CMD build --keep-empty-dirs --no-resave-data msmsTests StartedAt: 2024-05-09 01:57:00 -0000 (Thu, 09 May 2024) EndedAt: 2024-05-09 01:58:42 -0000 (Thu, 09 May 2024) EllapsedTime: 102.1 seconds RetCode: 0 Status: OK PackageFile: msmsTests_1.42.0.tar.gz PackageFileSize: 534.4 KiB