Package: msmsTests Version: 1.42.0 Command: /Library/Frameworks/R.framework/Resources/bin/R CMD check --install=check:msmsTests.install-out.txt --library=/Library/Frameworks/R.framework/Resources/library --no-vignettes --timings msmsTests_1.42.0.tar.gz StartedAt: 2024-10-18 05:08:33 -0400 (Fri, 18 Oct 2024) EndedAt: 2024-10-18 05:11:46 -0400 (Fri, 18 Oct 2024) EllapsedTime: 192.9 seconds RetCode: 0 Status: OK CheckDir: msmsTests.Rcheck Warnings: 0