Package: msmsTests Version: 1.42.0 Command: rm -rf msmsTests.buildbin-libdir && mkdir msmsTests.buildbin-libdir && /Users/biocbuild/BBS/utils/build-universal.sh msmsTests_1.42.0.tar.gz /Library/Frameworks/R.framework/Resources/bin/R msmsTests.buildbin-libdir StartedAt: 2024-10-18 19:36:43 -0400 (Fri, 18 Oct 2024) EndedAt: 2024-10-18 19:37:33 -0400 (Fri, 18 Oct 2024) EllapsedTime: 49.6 seconds RetCode: 0 Status: OK PackageFile: msmsTests_1.42.0.tgz PackageFileSize: 581.8 KiB