Package: msmsEDA Version: 1.42.0 Command: E:\biocbuild\bbs-3.19-bioc\R\bin\R.exe CMD INSTALL msmsEDA StartedAt: 2024-10-16 16:53:35 -0400 (Wed, 16 Oct 2024) EndedAt: 2024-10-16 16:54:13 -0400 (Wed, 16 Oct 2024) EllapsedTime: 38.0 seconds RetCode: 0 Status: OK