Package: msmsEDA Version: 1.42.0 Command: chmod a+r msmsEDA -R && E:\biocbuild\bbs-3.19-bioc\R\bin\R.exe CMD build --keep-empty-dirs --no-resave-data msmsEDA StartedAt: 2024-10-16 20:31:41 -0400 (Wed, 16 Oct 2024) EndedAt: 2024-10-16 20:32:41 -0400 (Wed, 16 Oct 2024) EllapsedTime: 59.5 seconds RetCode: 0 Status: OK PackageFile: msmsEDA_1.42.0.tar.gz PackageFileSize: 335.9 KiB