Package: msmsEDA Version: 1.42.0 Command: rm -rf msmsEDA.buildbin-libdir && mkdir msmsEDA.buildbin-libdir && E:\biocbuild\bbs-3.19-bioc\R\bin\R.exe CMD INSTALL --build --library=msmsEDA.buildbin-libdir msmsEDA_1.42.0.tar.gz StartedAt: 2024-10-17 08:12:13 -0400 (Thu, 17 Oct 2024) EndedAt: 2024-10-17 08:12:56 -0400 (Thu, 17 Oct 2024) EllapsedTime: 42.8 seconds RetCode: 0 Status: OK PackageFile: msmsEDA_1.42.0.zip PackageFileSize: 394.3 KiB