Package: msmsEDA Version: 1.42.0 Command: /Library/Frameworks/R.framework/Resources/bin/R CMD check --install=check:msmsEDA.install-out.txt --library=/Library/Frameworks/R.framework/Resources/library --no-vignettes --timings msmsEDA_1.42.0.tar.gz StartedAt: 2024-10-17 09:32:57 -0400 (Thu, 17 Oct 2024) EndedAt: 2024-10-17 09:39:50 -0400 (Thu, 17 Oct 2024) EllapsedTime: 413.4 seconds RetCode: 0 Status: OK CheckDir: msmsEDA.Rcheck Warnings: 0