Package: msmsEDA Version: 1.42.0 Command: /Library/Frameworks/R.framework/Resources/bin/R CMD build --keep-empty-dirs --no-resave-data msmsEDA StartedAt: 2024-10-16 21:20:29 -0400 (Wed, 16 Oct 2024) EndedAt: 2024-10-16 21:23:07 -0400 (Wed, 16 Oct 2024) EllapsedTime: 157.5 seconds RetCode: 0 Status: OK PackageFile: msmsEDA_1.42.0.tar.gz PackageFileSize: 439.3 KiB