Package: msmsEDA Version: 1.42.0 Command: rm -rf msmsEDA.buildbin-libdir && mkdir msmsEDA.buildbin-libdir && /Users/biocbuild/BBS/utils/build-universal.sh msmsEDA_1.42.0.tar.gz /Library/Frameworks/R.framework/Resources/bin/R msmsEDA.buildbin-libdir StartedAt: 2024-10-17 16:40:25 -0400 (Thu, 17 Oct 2024) EndedAt: 2024-10-17 16:41:46 -0400 (Thu, 17 Oct 2024) EllapsedTime: 81.2 seconds RetCode: 0 Status: OK PackageFile: msmsEDA_1.42.0.tgz PackageFileSize: 495.3 KiB