Package: msmsEDA Version: 1.42.0 Command: /home/biocbuild/R/R-beta-2024-04-15_r86425/bin/R CMD build --keep-empty-dirs --no-resave-data msmsEDA StartedAt: 2024-05-09 01:56:52 -0000 (Thu, 09 May 2024) EndedAt: 2024-05-09 01:57:56 -0000 (Thu, 09 May 2024) EllapsedTime: 64.1 seconds RetCode: 0 Status: OK PackageFile: msmsEDA_1.42.0.tar.gz PackageFileSize: 432.9 KiB