Package: msmsEDA Version: 1.42.0 Command: /Library/Frameworks/R.framework/Resources/bin/R CMD build --keep-empty-dirs --no-resave-data msmsEDA StartedAt: 2024-10-17 05:11:32 -0400 (Thu, 17 Oct 2024) EndedAt: 2024-10-17 05:12:35 -0400 (Thu, 17 Oct 2024) EllapsedTime: 63.2 seconds RetCode: 0 Status: OK PackageFile: msmsEDA_1.42.0.tar.gz PackageFileSize: 439.3 KiB