Package: msmsEDA Version: 1.42.0 Command: rm -rf msmsEDA.buildbin-libdir && mkdir msmsEDA.buildbin-libdir && /Users/biocbuild/BBS/utils/build-universal.sh msmsEDA_1.42.0.tar.gz /Library/Frameworks/R.framework/Resources/bin/R msmsEDA.buildbin-libdir StartedAt: 2024-10-18 19:36:35 -0400 (Fri, 18 Oct 2024) EndedAt: 2024-10-18 19:37:24 -0400 (Fri, 18 Oct 2024) EllapsedTime: 48.5 seconds RetCode: 0 Status: OK PackageFile: msmsEDA_1.42.0.tgz PackageFileSize: 495.2 KiB