Package: mslp Version: 1.6.0 Command: /Library/Frameworks/R.framework/Resources/bin/R CMD INSTALL mslp StartedAt: 2024-10-16 16:55:21 -0400 (Wed, 16 Oct 2024) EndedAt: 2024-10-16 16:55:25 -0400 (Wed, 16 Oct 2024) EllapsedTime: 3.5 seconds RetCode: 0 Status: OK