Package: mslp Version: 1.6.0 Command: /Library/Frameworks/R.framework/Resources/bin/R CMD check --install=check:mslp.install-out.txt --library=/Library/Frameworks/R.framework/Resources/library --no-vignettes --timings mslp_1.6.0.tar.gz StartedAt: 2024-10-18 05:07:43 -0400 (Fri, 18 Oct 2024) EndedAt: 2024-10-18 05:09:19 -0400 (Fri, 18 Oct 2024) EllapsedTime: 96.5 seconds RetCode: 1 Status: ERROR CheckDir: mslp.Rcheck Warnings: NA