Package: msgbsR Version: 1.28.0 Command: E:\biocbuild\bbs-3.19-bioc\R\bin\R.exe CMD INSTALL msgbsR StartedAt: 2024-10-16 16:51:10 -0400 (Wed, 16 Oct 2024) EndedAt: 2024-10-16 16:52:12 -0400 (Wed, 16 Oct 2024) EllapsedTime: 62.3 seconds RetCode: 0 Status: OK