Package: msgbsR Version: 1.28.0 Command: chmod a+r msgbsR -R && E:\biocbuild\bbs-3.19-bioc\R\bin\R.exe CMD build --keep-empty-dirs --no-resave-data msgbsR StartedAt: 2024-10-16 20:31:02 -0400 (Wed, 16 Oct 2024) EndedAt: 2024-10-16 20:32:57 -0400 (Wed, 16 Oct 2024) EllapsedTime: 115.5 seconds RetCode: 0 Status: OK PackageFile: msgbsR_1.28.0.tar.gz PackageFileSize: 15.16 MiB