Package: msgbsR Version: 1.28.0 Command: rm -rf msgbsR.buildbin-libdir && mkdir msgbsR.buildbin-libdir && F:\biocbuild\bbs-3.19-bioc\R\bin\R.exe CMD INSTALL --build --library=msgbsR.buildbin-libdir msgbsR_1.28.0.tar.gz StartedAt: 2024-05-06 08:17:09 -0400 (Mon, 06 May 2024) EndedAt: 2024-05-06 08:18:29 -0400 (Mon, 06 May 2024) EllapsedTime: 80.3 seconds RetCode: 0 Status: OK PackageFile: msgbsR_1.28.0.zip PackageFileSize: 15.19 MiB