Package: msgbsR Version: 1.28.0 Command: /home/biocbuild/bbs-3.19-bioc/R/bin/R CMD build --keep-empty-dirs --no-resave-data msgbsR StartedAt: 2024-10-16 19:39:22 -0400 (Wed, 16 Oct 2024) EndedAt: 2024-10-16 19:40:52 -0400 (Wed, 16 Oct 2024) EllapsedTime: 90.1 seconds RetCode: 0 Status: OK PackageFile: msgbsR_1.28.0.tar.gz PackageFileSize: 15.16 MiB