Package: msgbsR Version: 1.28.0 Command: /Library/Frameworks/R.framework/Resources/bin/R CMD INSTALL msgbsR StartedAt: 2024-10-16 16:09:59 -0400 (Wed, 16 Oct 2024) EndedAt: 2024-10-16 16:12:08 -0400 (Wed, 16 Oct 2024) EllapsedTime: 128.1 seconds RetCode: 0 Status: OK