Package: msgbsR Version: 1.28.0 Command: /Library/Frameworks/R.framework/Resources/bin/R CMD check --install=check:msgbsR.install-out.txt --library=/Library/Frameworks/R.framework/Resources/library --no-vignettes --timings msgbsR_1.28.0.tar.gz StartedAt: 2024-10-17 09:32:38 -0400 (Thu, 17 Oct 2024) EndedAt: 2024-10-17 09:51:25 -0400 (Thu, 17 Oct 2024) EllapsedTime: 1126.8 seconds RetCode: 0 Status: OK CheckDir: msgbsR.Rcheck Warnings: 0