Package: msgbsR Version: 1.28.0 Command: /Library/Frameworks/R.framework/Resources/bin/R CMD build --keep-empty-dirs --no-resave-data msgbsR StartedAt: 2024-10-16 21:19:21 -0400 (Wed, 16 Oct 2024) EndedAt: 2024-10-16 21:24:21 -0400 (Wed, 16 Oct 2024) EllapsedTime: 299.9 seconds RetCode: 0 Status: OK PackageFile: msgbsR_1.28.0.tar.gz PackageFileSize: 15.25 MiB