Package: msgbsR Version: 1.28.0 Command: rm -rf msgbsR.buildbin-libdir && mkdir msgbsR.buildbin-libdir && /Users/biocbuild/BBS/utils/build-universal.sh msgbsR_1.28.0.tar.gz /Library/Frameworks/R.framework/Resources/bin/R msgbsR.buildbin-libdir StartedAt: 2024-10-17 16:40:13 -0400 (Thu, 17 Oct 2024) EndedAt: 2024-10-17 16:42:32 -0400 (Thu, 17 Oct 2024) EllapsedTime: 138.5 seconds RetCode: 0 Status: OK PackageFile: msgbsR_1.28.0.tgz PackageFileSize: 15.29 MiB