Package: msgbsR Version: 1.28.0 Command: /Library/Frameworks/R.framework/Resources/bin/R CMD build --keep-empty-dirs --no-resave-data msgbsR StartedAt: 2024-06-10 01:13:11 -0400 (Mon, 10 Jun 2024) EndedAt: 2024-06-10 01:13:12 -0400 (Mon, 10 Jun 2024) EllapsedTime: 1.1 seconds RetCode: 1 Status: ERROR PackageFile: None PackageFileSize: NA