Package: msgbsR Version: 1.28.0 Command: /Library/Frameworks/R.framework/Resources/bin/R CMD INSTALL msgbsR StartedAt: 2024-10-16 17:37:38 -0400 (Wed, 16 Oct 2024) EndedAt: 2024-10-16 17:38:46 -0400 (Wed, 16 Oct 2024) EllapsedTime: 68.1 seconds RetCode: 0 Status: OK