Package: msgbsR Version: 1.28.0 Command: /Library/Frameworks/R.framework/Resources/bin/R CMD build --keep-empty-dirs --no-resave-data msgbsR StartedAt: 2024-10-17 05:09:35 -0400 (Thu, 17 Oct 2024) EndedAt: 2024-10-17 05:11:41 -0400 (Thu, 17 Oct 2024) EllapsedTime: 125.9 seconds RetCode: 0 Status: OK PackageFile: msgbsR_1.28.0.tar.gz PackageFileSize: 15.25 MiB