Package: msa Version: 1.36.1 Command: E:\biocbuild\bbs-3.19-bioc\R\bin\R.exe CMD INSTALL msa StartedAt: 2024-10-16 16:12:17 -0400 (Wed, 16 Oct 2024) EndedAt: 2024-10-16 16:19:05 -0400 (Wed, 16 Oct 2024) EllapsedTime: 407.6 seconds RetCode: 0 Status: OK