Package: msa Version: 1.36.1 Command: chmod a+r msa -R && E:\biocbuild\bbs-3.19-bioc\R\bin\R.exe CMD build --keep-empty-dirs --no-resave-data msa StartedAt: 2024-10-16 20:30:04 -0400 (Wed, 16 Oct 2024) EndedAt: 2024-10-16 20:37:42 -0400 (Wed, 16 Oct 2024) EllapsedTime: 457.9 seconds RetCode: 0 Status: OK PackageFile: msa_1.36.1.tar.gz PackageFileSize: 3.89 MiB