Package: msa Version: 1.36.0 Command: F:\biocbuild\bbs-3.19-bioc\R\bin\R.exe CMD INSTALL msa StartedAt: 2024-06-26 15:49:34 -0400 (Wed, 26 Jun 2024) EndedAt: 2024-06-26 15:59:29 -0400 (Wed, 26 Jun 2024) EllapsedTime: 595.1 seconds RetCode: 0 Status: OK